BEGIN:VCALENDAR
VERSION:2.0
PRODID:-//Območna obrtno-podjetniška zbornica Jesenice - ECPv4.6.12//NONSGML v1.0//EN
CALSCALE:GREGORIAN
METHOD:PUBLISH
X-WR-CALNAME:Območna obrtno-podjetniška zbornica Jesenice
X-ORIGINAL-URL:https://www.ooz-jesenice.si
X-WR-CALDESC:Events for Območna obrtno-podjetniška zbornica Jesenice
BEGIN:VEVENT
DTSTART;TZID=Europe/Ljubljana:20260203T090000
DTEND;TZID=Europe/Ljubljana:20260203T150000
DTSTAMP:20260424T191229
CREATED:20260203T085320Z
LAST-MODIFIED:20260203T085417Z
UID:6242-1770109200-1770130800@www.ooz-jesenice.si
SUMMARY:Vabilo na regijsko strokovno usposabljanje SLIKOPLESKAR 2026+
DESCRIPTION:Sekcija slikopleskarjev\, fasaderjev in črkoslikarjev v sodelovanju z vodilnimi partnerji organizira niz regijskih strokovnih usposabljanj z naslovom SLIKOPLESKAR 2026+: Hitreje\, kakovostneje\, brez reklamacij. \nNamen dogodka je nadgradnja praktičnega znanja za bolj učinkovito izvedbo del\, zmanjšanje reklamacij ter uporaba sodobnih materialov in tehnologij. \nKje in kdaj:\npetek\, 6. februar 2026\, OOZ Škofja Loka\, Spodnji trg 2a\, Škofja Loka.\n⏱️09:00 – 15:00\n \nProgram usposabljanja vključuje: \n• Predstavitev knjige Slikopleskarska dela s poudarkom na pravilni kalkulaciji\, ponudbah in računih.\n• Novosti JUB: barvna karta\, dekorativne tehnike\, sistemi za varovanje notranjega mikroklima in novi lateksi.\n• Pogoste napake pri obdelavi površin in praktične rešitve (Knauf).\n• Epoksidni in protiprašni premazi ter profesionalno orodje (Uzin Utz\, Pajarito).\n• Primerjava strojnega in ročnega nanosa barv (Wagner).\n• Profesionalna oprema za delo: aluminijasti odri\, razvlažilci in drugo (IMEXA\, Wilms\, Trotec).\n• Predavanja strokovnjakov in odgovori na vaša vprašanja ter certifikat udeležbe. \nStrošek ali kotizacija: Brezplačno. \nRok za prijavo: do zapolnitve mest. \nPrijave:\nE-Mail: andreja.strekelj@ozs.si\nGsm: 051 399 156 \nDodatne informacije:\nOZS\, Igor Pipan\, igor.pipan@ozs.si ali 01 5830 500. \nDogodek je namenjen članom OZS in vsem ostalim izvajalcem na področju slikopleskarstva\, fasaderstva in črkoslikarstva\, ki želijo nadgraditi strokovno znanje in izboljšati konkurenčnost v praksi. \nLepo vabljeni\, da se udeležite strokovnega usposabljanja! \n\n\n    \n
URL:https://www.ooz-jesenice.si/event/%f0%9f%93%8c-vabilo-na-regijsko-strokovno-usposabljanje-slikopleskar-2026/
LOCATION:Spodnji trg 2\, ŠKOFJA LOKA\, 4220\, Slovenija
CATEGORIES:Aktualno,Izobraževanje,Novice,Sekcija slikopleskarjev in fasaderjev
ATTACH;FMTTYPE=image/png:https://www.ooz-jesenice.si/wp-content/uploads/2026/02/Vabilo-slikopleskarji-e1770108563878.png
ORGANIZER;CN="Sekcija%20slikopleskarjev%20in%20fasaderjev%20pri%20OZS":MAILTO:igor.pipan@ozs.si
END:VEVENT
END:VCALENDAR