BEGIN:VCALENDAR
VERSION:2.0
PRODID:-//Območna obrtno-podjetniška zbornica Jesenice - ECPv4.6.12//NONSGML v1.0//EN
CALSCALE:GREGORIAN
METHOD:PUBLISH
X-WR-CALNAME:Območna obrtno-podjetniška zbornica Jesenice
X-ORIGINAL-URL:https://www.ooz-jesenice.si
X-WR-CALDESC:Events for Območna obrtno-podjetniška zbornica Jesenice
BEGIN:VEVENT
DTSTART;TZID=Europe/Ljubljana:20241216T140000
DTEND;TZID=Europe/Ljubljana:20241216T143000
DTSTAMP:20260425T154843
CREATED:20241212T152611Z
LAST-MODIFIED:20241212T153326Z
UID:5434-1734357600-1734359400@www.ooz-jesenice.si
SUMMARY:Brezplačen 30-minutni webinar: NOVA UREDBA O SKLADNOSTI PROIZVODOV (UREDBA 2023/988/EU)
DESCRIPTION:Nova uredba prinaša kar nekaj novosti in obveznosti za vse\, ki proizvajate ali uvažate izdelke. Ključne spremembe so: \n• Nova uredba obravnava tudi prodajo na daljavo\, vključno s spletno prodajo in spletne tržnice.\n• Drugače ureja registracijo in komuniciranje v primeru tržnega nadzora.\n• Uredba se zdaj nanaša na vse potrošniške izdelke.\n• Proizvajalec je dolžan izvesti oceno tveganja za proizvod.\n• Določena je postprodukcijska metoda ocene tveganja. \nTo pomeni\, da morate praktično vsa podjetja\, ki proizvajate\, uvažate in/ali distribuirate proizvode pregledati in ustrezno prilagoditi način\, kako zagotavljate varnost proizvodov in pripravite ustrezno tehnično dokumentacijo. \nDa bi vam to nekoliko olajšali\, smo za vas pripravili brezplačen 30-minutni webinar\, ki vam bo na sistematičen\, enostaven in praktičen način prikazal novosti in obveznosti\, ki so nastale z novo uredbo. \nPredavatelj:\nJanez Furlan\, strokovnjak za inženiring skladnosti in trajnosti proizvodov\, z več kot 20-letnimi izkušnjami tako na domačem kot tujem trgu. \nWebinar bo potekal preko aplikacije ZOOM. \nPrijave:\nWebinar je brezplačen\, prijave pa so obvezne. Zoom povezavo do webinarja boste vsi prijavljeni prejeli dan pred izvedbo. \nPRIJAVA tukaj:  https://forms.gle/wkLKqjFp7UBTGaPz7 \nLepo vabljeni! \n\n\n    \n
URL:https://www.ooz-jesenice.si/event/brezplacen-30-minutni-webinar-nova-uredba-o-skladnosti-proizvodov-uredba-2023-988-eu/
CATEGORIES:Aktualno,Izobraževanje,Novice
ATTACH;FMTTYPE=image/png:https://www.ooz-jesenice.si/wp-content/uploads/2024/12/Skladnost-proizvodov-2-e1734017380470.png
END:VEVENT
END:VCALENDAR