BEGIN:VCALENDAR
VERSION:2.0
PRODID:-//Območna obrtno-podjetniška zbornica Jesenice - ECPv4.6.12//NONSGML v1.0//EN
CALSCALE:GREGORIAN
METHOD:PUBLISH
X-WR-CALNAME:Območna obrtno-podjetniška zbornica Jesenice
X-ORIGINAL-URL:https://www.ooz-jesenice.si
X-WR-CALDESC:Events for Območna obrtno-podjetniška zbornica Jesenice
BEGIN:VEVENT
DTSTART;TZID=Europe/Ljubljana:20241121T130000
DTEND;TZID=Europe/Ljubljana:20241121T150000
DTSTAMP:20260425T185519
CREATED:20241108T124010Z
LAST-MODIFIED:20241108T133525Z
UID:5371-1732194000-1732201200@www.ooz-jesenice.si
SUMMARY:Brezplačna spletna delavnica - Prenos družinskega podjetja na potomce
DESCRIPTION:PRENOS DRUŽINSKEGA PODJETJA – POTREBNI DOGOVORI IN KORAKI PRENOSA \nNa spletni delavnici boste dobili pojasnila\, kaj vse je potrebno urediti\, da se učinkovito prenese odgovornost in lastništvo na potomce. \n  TEMATIKE:\n– Pogoste problematike prenosa lastništva in možne rešitve za podjetje.\n– Kaj je pomembno\, da se družinski člani med seboj dogovorite?\n– Načrtovanje potrebnih korakov prenosa družinskega podjetja.\n– Razlaga različnih družinskih primerov iz prakse.\n– Davčno pojasnjevanje vseh opcij prenosa.\n– Pojasnilo možnosti prejema subvencije. \n \nSvetovalec MoST inštituta Leon Kavs vas bo najprej 75 minut preko praktičnih primerov in tematik vodil v učinkovite rešitve za vaš specifičen družinski primer. \nV zaključku bo odgovarjal na vaša vprašanja glede na podano vsebino tega 1. dela. \nV drugem delu bo Uroš Kavs skozi podjetniški vidik podal ustrezne davčne informacije za posamezne situacije. Predstavil bo tako rešitve za d.o.o.-je\, kot tudi za prenos s.p.-ja. \nV zaključku delavnice bosta oba svetovalca na voljo za vsa dodatna vprašanja. \nMožnost boste imeli rezervirati termin za brezplačni informativni sestanek. \nDelavnica je primerna predvsem za: \n– Družinska podjetja s 5+ zaposlenimi.\n– Lastnike podjetij\, ki se boste v naslednjih letih upokojevali.\n– Naslednike podjetja\, ki ga prevzemate samostojno ali v solastništvu s sorodniki. \nŠe posebej je primerna za družinska podjetja\, kjer več potomcev prevzema družinski posel. \nVabljeni vsi družinski člani\, ki ste aktivno vpeti v podjetje. \nKdaj:\nčetrtek\, 21. november 2024\, od 13.00 do 15.00. \nPrijava:\nPrijava je obvezna\, ker boste le na ta način prejeli link za spremljanje. \nPrijavite se preko most-institut.com/delavnica \n  \nReference MoST inštituta: \nIzkušnje s prestrukturiranjem in urejanjem medsebojnih lastniških razmerij imajo iz najrazličnejših branž. Delajo tako z malimi podjetji\, kot s tistimi z več sto zaposlenimi. \nV zadnjih treh letih so prenesli vodenje podjetja na naslednike v 123 družinskih podjetjih. \nUstanovitelj Uroš Kavs že 13 let svetuje družinskim in solastniškim podjetjem. Leta 2017 je izdal knjigo Kako družinskemu podjetju zagotoviti uspešno prihodnost\, ki je polna različnih primerov iz njegove prakse. \nVabljeni k udeležbi! \n\n\n    \n
URL:https://www.ooz-jesenice.si/event/brezplacna-spletna-delavnica-prenos-druzinskega-podjetja-na-potomce/
CATEGORIES:Aktualno,Izobraževanje,Novice
ATTACH;FMTTYPE=image/png:https://www.ooz-jesenice.si/wp-content/uploads/2024/11/Prenos-na-potomce-popravljeno.png
END:VEVENT
END:VCALENDAR