BEGIN:VCALENDAR
VERSION:2.0
PRODID:-//Območna obrtno-podjetniška zbornica Jesenice - ECPv4.6.12//NONSGML v1.0//EN
CALSCALE:GREGORIAN
METHOD:PUBLISH
X-WR-CALNAME:Območna obrtno-podjetniška zbornica Jesenice
X-ORIGINAL-URL:https://www.ooz-jesenice.si
X-WR-CALDESC:Events for Območna obrtno-podjetniška zbornica Jesenice
BEGIN:VEVENT
DTSTART;TZID=Europe/Ljubljana:20250118T150000
DTEND;TZID=Europe/Ljubljana:20250118T173000
DTSTAMP:20260425T140822
CREATED:20250108T111144Z
LAST-MODIFIED:20250108T111144Z
UID:5461-1737212400-1737221400@www.ooz-jesenice.si
SUMMARY:Look & Learn seminar za frizerje: Trendi in tehnike v 2025
DESCRIPTION:Spoznajte najnovejše trende in tehnike v frizerstvu za leto 2025. Izvedeli boste vse o naprednih tehnikah barvanja in striženja.\nVabimo vas\, da se udeležite strokovnega seminarja za frizerje Look&Learn\, ki ga bosta vodila dva priznana frizerja\, Matej Prinčič in Matjaž Okorn. Potekal bo v soboto\, 18. januarja 2025 ob 15.00 v veliki sejni sobi OOZ Škofja Loka\, Spodnji trg 2a\, Škofja Loka (2. nadstropje). \nSeminar je zasnovan z namenom predstavitve najnovejših trendov in tehnik frizerstva v letu 2025. Pripravite se na interaktiven in poučen dogodek\, kjer boste spoznali napredne tehnike barvanja in striženja\, ki so ključne za uspeh v frizerskem salonu. \nVsebina seminarja:\n \n1. Tehnike barvanja (Matjaž Okorn): predstavil bo 3 modele in razložil ključne tehnike za dosego brezhibnih rezultatov v barvanju las: \n\nPrekrivanje sivih las – Kako doseči popolno prekrivanje sivih las in ustvariti naraven videz.\nSvetlenje in beljenje las – Ustvarjanje lepih blond tonov s senčenjem v hladnih modnih odtenkih\, ki so najbolj iskani v frizerskih salonih.\nTrendi barvanja s prameni – Uporaba toplih jesensko/zimskih tonov.\n\n2. Tehnike striženja (Matej Prinčič): predstavil bo ključne trende v striženju in pokazal različne tehnike na 2 do 3 modelih: \n\nLinije\, graduacije in plasti – Prikaz različnih vrst linij in njihovih prednosti za dosego želenih rezultatov.\nPovezane in nepovezane linije – Razlaga in prikaz uporabe tehnik\, ki omogočajo oblikovanje različnih frizur.\nPrilagajanje striženja glede na obliko obraza – Kako prilagoditi striženje za najboljši videz vaših strank.\nPravilno sušenje in izbira orodja – Nasveti za optimalno uporabo orodij in produktov ter pripravo las za končni izgled.\n\n3. Motiviranje in vodenje mladih frizerjev: \n\nDelitev izkušenj pri vodenju in ustvarjanju uspešnega frizerskega tima.\nNasveti za motivacijo mladih frizerjev\, kako jih navdušiti za učenje in rast v tej industriji.\n\n4. Vprašanja in odgovori:\nNa koncu seminarja boste imeli priložnost\, da postavite vprašanja in izmenjate mnenja glede predstavljenih vsebin ter izkušenj. \nKotizacija: \n\nČlani OOZ Škofja Loka\, Kranj\, Tržič\, Radovljica\, Jesenice\, Kamnik in Domžale: 40\,00 EUR (z DDV)\nNečlani: 80\,00 EUR (z DDV)\n\nPredavatelja: \nMatej Prinčič je priznani frizer\, ki je svojo kariero začel pri Mič Stylingu\, enem največjih ponudnikov frizerskih storitev v Sloveniji. Sodeloval je z velikimi frizerskimi mojstri\, kot sta Vidal Sassoon in brata Toni&Guy. Je tudi soustanovitelj Mič Styling Art teama. Njegova sposobnost prepoznavanja želja strank in njihovo uresničevanje je ključna za uspeh\, saj stranke redno obiskujejo njegov salon zaradi kakovosti in prijetnega vzdušja. \nMatjaž Okorn je član Art Team Mič Styling in vodilni edukator za barve pri blagovni znamki Paul Mitchell. Z bogatimi izkušnjami in znanjem je postal pomemben del frizerske skupnosti v Sloveniji. Njegova naloga vključuje izobraževanje in usposabljanje drugih frizerjev\, kar prispeva k dvigu kakovosti storitev v frizerskih salonih. \nPrijave do 15. januarja 2025 oz. do zapolnitve prostih mest. Število mest je omejeno! \nPrijave: OOZ Škofja Loka\, 04 50 60 200\, ooz.sk.loka@siol.net oz. preko e-Prijavnice. \nNe zamudite priložnosti\, da izboljšate svoje znanje in se seznanite z najnovejšimi trendi! \nPrijavite se čim prej\, da si zagotovite svoje mesto na seminarju! \nVeselimo se srečanja z vami! \n\n\n    \n
URL:https://www.ooz-jesenice.si/event/look-learn-seminar-za-frizerje-trendi-in-tehnike-v-2025/
LOCATION:Spodnji trg 2\, Škofja Loka\, Gorenjska\, 4220\, Slovenija
CATEGORIES:Aktualno,Izobraževanje,Novice,Sekcija frizerjev
ATTACH;FMTTYPE=image/jpeg:https://www.ooz-jesenice.si/wp-content/uploads/2025/01/seminar-frizerji-e1736334477232.jpg
END:VEVENT
END:VCALENDAR