BEGIN:VCALENDAR
VERSION:2.0
PRODID:-//Območna obrtno-podjetniška zbornica Jesenice - ECPv4.6.12//NONSGML v1.0//EN
CALSCALE:GREGORIAN
METHOD:PUBLISH
X-WR-CALNAME:Območna obrtno-podjetniška zbornica Jesenice
X-ORIGINAL-URL:https://www.ooz-jesenice.si
X-WR-CALDESC:Events for Območna obrtno-podjetniška zbornica Jesenice
BEGIN:VEVENT
DTSTART;TZID=Europe/Ljubljana:20241206T183000
DTEND;TZID=Europe/Ljubljana:20241206T193000
DTSTAMP:20260425T172504
CREATED:20241018T121414Z
LAST-MODIFIED:20241018T121902Z
UID:5332-1733509800-1733513400@www.ooz-jesenice.si
SUMMARY:Prednovoletna predstava in obdaritev otrok
DESCRIPTION:Spet je leto naokoli in bliža se čarobni praznični čas\, ki se ga veselimo vsi\, še posebej pa otroci. \nNa zbornici z velikim veseljem pripravljamo srečanje otrok naših članov z Miklavžem. Otroci si bodo najprej ogledali predstavo v organizaciji gledališča KU-KUC z naslovom Mirko in čarobne lučke\, nato pa jim bo prvi od treh dobrih mož\, Sv. Miklavž\, izročil manjša darila. \n \nSrečanje in obdaritev otrok bosta ponovno zasnovana na starosti otrok\, ki so v letošnjem letu stari od 1 do 10 let (letnik 2014 do vključno 2023). \nProsimo vas\, da nam imena otrok\, skupaj z njihovo starostjo\, sporočite na prijavnici\, ki jo objavljamo na naši spletni strani najkasneje do srede\, 30. 10. 2024. Po tem datumu prijav žal ne bomo mogli več sprejemati! \nVaš prispevek znaša 20\,00 eur (DDV je vključen). Predstava\, prostor in ostale organizacijske aktivnosti pa so strošek zbornice. \nNa predstavo in srečanje z Miklavžem lahko povabite tudi otroke svojih zaposlenih delavcev! \nGledališka predstava za otroke in obdaritev bo potekala v petek\, 6. 12. 2024\, ob 18:30 uri v večnamenski dvorani na Blejski Dobravi. \nPrijavljene otroke bomo na dogodek povabili s posebnim vabilom. Spet je leto naokoli in bliža se čarobni praznični čas\, ki se ga veselimo vsi\, še posebej pa otroci. \nProsimo vas\, da nam imena otrok\, skupaj z njihovo starostjo\, sporočite na obrazcu (PRIJAVNICA) najkasneje do torka\, 30. 10. 2024\, da bomo lahko pravočasno naročili darila. \nVabljeni! \n\n\n    \n
URL:https://www.ooz-jesenice.si/event/prednovoletna-predstava-in-obdaritev-otrok/
LOCATION:Blejska Dobrava 44\, Blejska Dobrava\, 4273
CATEGORIES:Aktualno,Izobraževanje,Novice
ATTACH;FMTTYPE=image/jpeg:https://www.ooz-jesenice.si/wp-content/uploads/2024/10/port_jelencek_2024.jpg
END:VEVENT
END:VCALENDAR