BEGIN:VCALENDAR
VERSION:2.0
PRODID:-//Območna obrtno-podjetniška zbornica Jesenice - ECPv4.6.12//NONSGML v1.0//EN
CALSCALE:GREGORIAN
METHOD:PUBLISH
X-WR-CALNAME:Območna obrtno-podjetniška zbornica Jesenice
X-ORIGINAL-URL:https://www.ooz-jesenice.si
X-WR-CALDESC:Events for Območna obrtno-podjetniška zbornica Jesenice
BEGIN:VEVENT
DTSTART;TZID=Europe/Ljubljana:20260212T170000
DTEND;TZID=Europe/Ljubljana:20260212T190000
DTSTAMP:20260424T172600
CREATED:20260209T124433Z
LAST-MODIFIED:20260209T125412Z
UID:6294-1770915600-1770922800@www.ooz-jesenice.si
SUMMARY:Predvolilno regijsko srečanje obrtnikov in podjetnikov v Kranju – 12. februar 2026
DESCRIPTION:VABILO\nPredvolilno srečanje obrtnikov in podjetnikov\, kjer bomo govorili o stanju v državi in naših pričakovanjih in zahtevah do bodoče vlade\nKranj\, 12. 2. 2026 ob 17h\nSejna dvorana št. 15\, Mestna občina Kranj\,\nSlovenski trg 1\, Kranj \nSlovenija potrebuje novo\, bolj ambiciozno in razvojno usmerjeno gospodarsko politiko. OZS že leta v okviru zahtev obrti in podjetništva predstavlja Pametne rešitve za obrt in podjetništvo prihodnosti. \nČas je\, da skupaj pošljemo jasen signal\, da mora politika preseči politične interese lastnega političnega mandata in skupaj z obrtjo in gospodarstvom oblikovati takšno gospodarsko politiko\, ki v ospredje postavlja pogoje\, ki omogočajo rast in razvoj obrti in podjetništva ter dvig dodane vrednosti v dobrobit vsem državljanom Slovenije. \n\nStanje v gospodarstvu in prizadevanja Obrtno-podjetniške zbornice za izboljšanje konkurenčnosti gospodarstva ter poslovnega okolja. \nBlaž Cvar\, predsednik OZS\nDanijel Lamperger\, direktor OZS\nPredsedniki in predsednici območnih obrtno-podjetniških zbornic gorenjske regije \n***** \nIzzivi uspešnega podjetja v nepredvidljivem gospodarskem okolju. \nIvan Simič – SIMIČ & PARTNERJI d.o.o\nMirko Mayer\, novinar \n\n***** \nPoslovno mreženje \nPRIJAVA: \nUdeležbo na dogodku potrdite z izpolnitvijo prijave – TUKAJ \n  \nBlaž Cvar\, predsednik OZS\nHenrika Zupan\, predsednica OOZ Jesenice \n  \n  \n  \n\n\n    \n
URL:https://www.ooz-jesenice.si/event/predvolilno-regijsko-srecanje-obrtnikov-in-podjetnikov-v-kranju-12-februar-2026/
LOCATION:Slovenski trg 1\, Kranj
CATEGORIES:Aktualno,Novice
ATTACH;FMTTYPE=image/jpeg:https://www.ooz-jesenice.si/wp-content/uploads/2026/02/04-FB-POST-REGIJSKA-SRECANJA-KR-1.jpg
ORGANIZER;CN="OOZ%20Gorenjske%20regije":MAILTO:andreja.strekelj@ozs.si
END:VEVENT
END:VCALENDAR