BEGIN:VCALENDAR
VERSION:2.0
PRODID:-//Območna obrtno-podjetniška zbornica Jesenice - ECPv4.6.12//NONSGML v1.0//EN
CALSCALE:GREGORIAN
METHOD:PUBLISH
X-WR-CALNAME:Območna obrtno-podjetniška zbornica Jesenice
X-ORIGINAL-URL:https://www.ooz-jesenice.si
X-WR-CALDESC:Events for Območna obrtno-podjetniška zbornica Jesenice
BEGIN:VEVENT
DTSTART;TZID=Europe/Ljubljana:20250128T100000
DTEND;TZID=Europe/Ljubljana:20250128T123000
DTSTAMP:20260425T152601
CREATED:20250110T084909Z
LAST-MODIFIED:20250110T094026Z
UID:5476-1738058400-1738067400@www.ooz-jesenice.si
SUMMARY:Webinar: Davčni obračun za leto 2024 in prvi paket davčnih sprememb
DESCRIPTION:Davčni zavezanci morajo do 31. marca pripraviti obračun davka od dohodkov pravnih oseb in obračun davka od dohodkov iz dejavnosti za leto 2024. Cilj usposabljanja je ponuditi udeležencem strokovne napotke in priporočila za izdalo ter jih seznaniti s prvim paketom sprememb davčne zakonodaje\, ki so začele veljati z letom 2025. \n  \nKdaj in kje: \ntorek\, 28. januar 2025\, od 10. do 12.30 ure\, preko spleta. \n  \nProgram: \n\nDavčni obračun za leto 2024• Splošno o pripravi in oddaji davčnega obračuna s spremembami\n• Davčno priznani/nepriznani prihodki in odhodki\n• Davčna obravnava rezervacij\, slabitev in odpisov\n• Amortizacija\n• Plače in druga izplačila v zvezi z zaposlitvijo\n• Poslovanje s povezanimi osebami\n• Davčne olajšave\n• Posebnosti v davčnem obračunu normirancev\n• Omejitev olajšav in efektivna obdavčitev\n\n\nPrvi paket davčnih sprememb\n\n  \nWebinar bo izvedla:  \nJasmina Malnar Molek\, davčna strokovnjakinja je svetovalka v Svetovalnem centru Obrtno-podjetniške zbornice Slovenije. Predavateljica ima več kot 30 let delovnih izkušenj s področja financ\, računovodstva in davkov. V letu 2024 je bila članica Delovne skupine za davke\, Strateškega sveta za davke\,Strokovnega odbora ESS za davke in Strokovno posvetovalne skupine pri FURS. Je avtorica številnih člankov z računovodskega in davčnega področja. \n  \nKotizacija: \n→ BREZPLAČNO za člane OOZ Škofja Loka* \n→ BREZPLAČNO za člane Gorenjskih OOZ* \n→ 40 EUR (z vključenim DDV) za člane ostalih OOZ* \n→ 120 EUR (z vključenim DDV) za vse ostale udeležence. \n(*Član\, ki nima poravnane članarine\, plača kotizacijo v višini kot velja za ostale udeležence.) \n  \nUdeleženci kotizacijo poravnajo na osnovi izstavljenega predračuna! \n  \nRok za prijavo: 27. 1. 2025! \nSPLETNA PRIJAVA NA DOGODEK  \n\nDodatne informacije: \n• OOZ Škofja Loka\, 04 50 60 200\, info@ooz-skofjaloka.si \n• ostale Gorenjske OOZ (Jesenice\, Kamnik\, Kranj\, Radovljica\, Tržič) \n\n\n    \n
URL:https://www.ooz-jesenice.si/event/webinar-davcni-obracun-za-leto-2024-in-prvi-paket-davcnih-sprememb/
CATEGORIES:Aktualno,Izobraževanje,Novice
ATTACH;FMTTYPE=image/jpeg:https://www.ooz-jesenice.si/wp-content/uploads/2025/01/davčni-obračun-vabilo-ležeče-e1736501995210.jpg
END:VEVENT
END:VCALENDAR