BEGIN:VCALENDAR
VERSION:2.0
PRODID:-//Območna obrtno-podjetniška zbornica Jesenice - ECPv4.6.12//NONSGML v1.0//EN
CALSCALE:GREGORIAN
METHOD:PUBLISH
X-WR-CALNAME:Območna obrtno-podjetniška zbornica Jesenice
X-ORIGINAL-URL:https://www.ooz-jesenice.si
X-WR-CALDESC:Events for Območna obrtno-podjetniška zbornica Jesenice
BEGIN:VEVENT
DTSTART;TZID=Europe/Ljubljana:20250201T070000
DTEND;TZID=Europe/Ljubljana:20250201T130000
DTSTAMP:20260425T152600
CREATED:20250114T140048Z
LAST-MODIFIED:20250114T140131Z
UID:5504-1738393200-1738414800@www.ooz-jesenice.si
SUMMARY:Redno usposabljanje za voznike (koda EU95) – program za leto 2025
DESCRIPTION:Tudi v letošnjem letu za voznike organiziramo redno usposabljanje za podaljšanje kode EU95\, po programu za leto 2025. \nUsposabljanje bo v SOBOTO\, 1. februarja 2025\, od 7:00 do 13:00 ure\, v večnamenskem prostoru na Blejski Dobravi. \n  \nProgram rednega usposabljanja: \n\nVARNA VOŽNJA IN VARNOSTNI SISTEMI\n\n– poznavanje tehničnih lastnosti in delovanja varnostnih mehanizmov\, da se lahko nadzoruje vozilo\, zmanjša obraba in preprečijo motnje v delovanju\n– ozaveščanje voznikov o nevarnostih na cesti in nesrečah pri delu – nevarnosti v promet\n– vrste nesreč v prometu\, statistika nesreč na cesti\n– udeležba tovornjakov/avtobusov\, človeške\, materialne in finančne posledice\n– zmožnost ocenjevanja razmer v sili: ravnanje v sili (ocena stanja\, preprečevanje zapletov po nesreči)\n– klicanje pomoči\, pomoč ranjenim in prva pomoč\n– ravnanje ob požaru\, evakuacija potnikov iz tovornjaka/avtobusa\, zagotavljanje varnosti potnikov\n– ravnanje v primeru agresije in naravnih nesreč\n– poznavanje varnostnih naprav\, ki skrbijo za varnost v vozilu\n– dvig nivoja varnosti kot vseživljenjsko učenje\n– ocenjevanje delovanja sil in tovora na vožnjo\n– preprečevanje nesreč skozi predvidevanje in spremljanje prometa\n– varnostni sistemi za povečevanje varnosti v prometu in v vozilu\n– pravilno ravnanje v posebnih prometnih situacijah in posledice napačnega ravnanja \n\nPRAVILA CESTNEGA PROMETA\n\n– pravila v cestnem prometu (Zakon o pravilih v cestnem prometu) s poudarkom na:\n1. pravila vožnje (prednost\, hitrost\, prometni znaki…)\n2. uporaba mobilnega telefona in drugih naprav\n3. princip zadrge\n4. šibkejši udeleženci v prometu\n5. prehitevanje (s poudarkom na varnem prehitevanju tovornih vozil na avtocesti)\n6. pravilna vožnja v križiščih\, krožnih križiščih\, uporaba smernikov…\n– mase in dimenzije vozil\n– zakon o voznikih in zakon o vozilih (s poudarkom na novostih na tem področju). \nPrijave zbiramo do 24. januarja 2025. \n  \nPRIJAVNICO (PRIJAVNICA RU – 2025 (01.02.2025) v celoti izpolnite (v kolikor ste menjali vozniško dovoljenje ali osebni dokument\, prosim priložite še kopijo novega dokumenta) in jo posredujete na OOZ Jesenice. \n  \nKotizacija: \n– člani OOZ Jesenice s poravnano članarino (cena z vključenim DDV) – 25\,00€\n– zaposleni pri članih OOZ Jesenice s poravnano članarino (cena z vključenim DDV) – 35\,00€\n– ostali udeleženci (cena z vključenim DDV) – 55\,00€ \n  \nZnesek kotizacije predhodno nakažite na:\nračun št.: SI56 1010 0004 6585 118\,\nsklicna številka : 00 01022025\,\nkoda namena SUBS\,\nprejemnik: OBMOČNA OBRTNO-PODJETNIŠKA ZBORNICA JESENICE\, Cesta železarjev 2\, 4270 Jesenice \nali slikajte QR kodo (Nalogi-QR) \n  \nŠtevilo mest je omejeno. Ob premajhnem številu prijav\, pa si pridržujemo pravico do odpovedi. \n  \nUsposabljanja se bodo lahko udeležili le prijavljeni\, ki bodo pred izvedbo usposabljanja poravnali kotizacijo. \nInformacije in dodatna pojasnila:\n– tel. št.: +386 (4) 58 33 450\n– e-naslov: andreja.strekelj@ozs.si ali oozjesenice@gmail.com \nLepo vabljeni! \n\n\n    \n
URL:https://www.ooz-jesenice.si/event/redno-usposabljanje-za-voznike-koda-eu95-program-za-leto-2025-1-februar-2025/
LOCATION:Blejska Dobrava 44\, 4273 Blejska Dobrava\, Slovenija
CATEGORIES:Aktualno,Izobraževanje,Novice,Sekcija za promet
ATTACH;FMTTYPE=image/jpeg:https://www.ooz-jesenice.si/wp-content/uploads/2019/01/truck-3561413_960_720-e1548416449239.jpg
ORGANIZER;CN="Obmo%C4%8Dna%20obrtno-podjetni%C5%A1ka%20zbornica%20Jesenice":MAILTO:andreja.strekelj@ozs.si
END:VEVENT
END:VCALENDAR