BEGIN:VCALENDAR
VERSION:2.0
PRODID:-//Območna obrtno-podjetniška zbornica Jesenice - ECPv4.6.12//NONSGML v1.0//EN
CALSCALE:GREGORIAN
METHOD:PUBLISH
X-WR-CALNAME:Območna obrtno-podjetniška zbornica Jesenice
X-ORIGINAL-URL:https://www.ooz-jesenice.si
X-WR-CALDESC:Events for Območna obrtno-podjetniška zbornica Jesenice
BEGIN:VEVENT
DTSTART;TZID=Europe/Ljubljana:20251023T130000
DTEND;TZID=Europe/Ljubljana:20251023T143000
DTSTAMP:20260425T015301
CREATED:20251006T074442Z
LAST-MODIFIED:20251006T074442Z
UID:6014-1761224400-1761229800@www.ooz-jesenice.si
SUMMARY:Brezplačna spletna delavnica:  (SO)LASTNIŠKI DOGOVORI glede vodenja in lastništva podjetja
DESCRIPTION:Ključni izzivi med brati\, sestrami in solastniki\nNa delavnici razjasnimo\, kaj vse je potrebno urediti\, da solastniki začnejo učinkovito soupravljati podjetje \n  \nKako dogovoriti in zapisati primerne dogovore \nTEMATIKE: \n• O katerih zadevah odločajo so lastniki in o katerih direktor.\n• Dogovori po ZGD-1 so zelo škodljivi za podjetje!\n• Kako prilagoditi določila ZGD-1 v vašo korist.\n• Primeri iz prakse\, pogosti problemi in rešitve.\n• Katere dogovore je smiselno zavezujoče zapisati.\n• Upokojitev lastnikov\, izhodne strategije in nasledstvo.\n• Kako določiti jasne funkcije\, naloge\, pristojnosti in odgovornosti. \n  \nSvetovalec MoST inštituta Leon Kavs vas bo 90 minut vodil skozi omenjene tematike. Odgovoril bo na vaša vprašanja. Priložnost bo tudi za rezervacijo brezplačnega info termina. \n  \nDelavnica je primerna predvsem za: \n• Družinska podjetja\, kjer več potomcev prevzema družinski posel.\n• Več lastniške firme\, ki so družbeno pogodbo uredili pri notarju po ZGD-1.\n• Naslednike družinskih podjetij\, kjer so prenos lastništva že izvedli na več potomcev. \n  \nBrezplačna spletna delavnica bo potekala v četrtek 23. oktobra od 13h do 14:3o. \n  \nPrijava je obvezna\, ker boste le na ta način prejeli link za spremljanje. \n  \nVeč o vsebini in prijave na  most-delavnice.si \n  \nReference MoST inštituta:  \n  \nIzkušnje s prestrukturiranjem in urejanjem medsebojnih lastniških razmerij imajo iz najrazličnejših branž. Delajo tako z malimi podjetji\, kot s tistimi z več sto zaposlenimi. \n  \nV zadnjih treh letih so prenesli vodenje podjetja na naslednike v 123 družinskih podjetjih. \n  \nUstanovitelj Uroš Kavs že 13 let svetuje družinskim in solastniškim podjetjem. Leta 2017 je izdal knjigo Kako družinskemu podjetju zagotoviti uspešno prihodnost\, ki je polna različnih primerov iz njegove prakse. \n  \nVljudno vabljeni! \n\n\n    \n
URL:https://www.ooz-jesenice.si/event/brezplacna-spletna-delavnica-solastniski-dogovori-glede-vodenja-in-lastnistva-podjetja/
CATEGORIES:Aktualno,Izobraževanje,Novice
ATTACH;FMTTYPE=image/jpeg:https://www.ooz-jesenice.si/wp-content/uploads/2025/06/laptop-3196481_640.jpg
END:VEVENT
END:VCALENDAR