BEGIN:VCALENDAR
VERSION:2.0
PRODID:-//Območna obrtno-podjetniška zbornica Jesenice - ECPv4.6.12//NONSGML v1.0//EN
CALSCALE:GREGORIAN
METHOD:PUBLISH
X-WR-CALNAME:Območna obrtno-podjetniška zbornica Jesenice
X-ORIGINAL-URL:https://www.ooz-jesenice.si
X-WR-CALDESC:Events for Območna obrtno-podjetniška zbornica Jesenice
BEGIN:VEVENT
DTSTART;TZID=Europe/Ljubljana:20251202T170000
DTEND;TZID=Europe/Ljubljana:20251202T183000
DTSTAMP:20260424T222330
CREATED:20251103T081813Z
LAST-MODIFIED:20251106T142744Z
UID:6117-1764694800-1764700200@www.ooz-jesenice.si
SUMMARY:Prednovoletna predstava in obdaritev otrok
DESCRIPTION:Spet je leto naokoli in bliža se čarobni praznični čas\, ki se ga veselimo vsi\, še posebej pa otroci.\n  \n\n\nNa zbornici z velikim veseljem pripravljamo srečanje otrok članov in otrok zaposlenih pri članih z Miklavžem. Otroci si bodo najprej ogledali predstavo v organizaciji gledališča KU-KUC z naslovom Recept za sneg\, nato pa jim bo prvi od treh dobrih mož\, Sv. Miklavž\, obiskal in izročil manjša darila. \n  \nSrečanje in obdaritev otrok bosta ponovno zasnovana na starosti otrok\, ki so v letošnjem letu stari od 1 do 10 let (letnik 2016 do vključno 2025). \n  \n• PRIJAVE: \nProsimo vas\, da nam imena otrok\, skupaj z njihovo starostjo\, sporočite na na obrazcu PRIJAVNICA najkasneje do torka\, 04. 11. 2025\, da bomo lahko pravočasno naročili darila. Po tem datumu prijav žal ne bomo mogli več sprejemati! \n  \n• VAŠ PRISPEVEK: \n\n\nznaša 25\,00 eur/otroka (DDV je vključen). Predstava\, prostor in ostale organizacijske aktivnosti pa so strošek OOZ            Jesenice. Na predstavo in srečanje z Miklavžem lahko povabite tudi otroke svojih zaposlenih delavcev! \n  \n• KRAJ OBDARITVE: \nGledališka predstava za otroke in obdaritev bo potekala v torek\, 2. 12. 2024\, ob 17:00 uri v večnamenski dvorani na Blejski Dobravi. \n\nPrijavljene otroke bomo na dogodek povabili s posebnim vabilom. \n  \nVabljeni k udeležbi! \n\n\n\n\n    \n
URL:https://www.ooz-jesenice.si/event/prednovoletna-predstava-in-obdaritev-otrok-2/
LOCATION:Blejska Dobrava 44\, 4273 Blejska Dobrava\, Slovenija
CATEGORIES:Aktualno,Izobraževanje,Novice
ATTACH;FMTTYPE=image/png:https://www.ooz-jesenice.si/wp-content/uploads/2025/11/slika-predstave-e1762157883705.png
ORGANIZER;CN="Obmo%C4%8Dna%20obrtno-podjetni%C5%A1ka%20zbornica%20Jesenice":MAILTO:andreja.strekelj@ozs.si
END:VEVENT
END:VCALENDAR